BEGIN:VCALENDAR
VERSION:2.0
PRODID:-//Campaña noviolencia 2018. Continuamos en: http://www.colectivonoviolencia.org/ - ECPv4.9.9//NONSGML v1.0//EN
CALSCALE:GREGORIAN
METHOD:PUBLISH
X-WR-CALNAME:Campaña noviolencia 2018. Continuamos en: http://www.colectivonoviolencia.org/
X-ORIGINAL-URL:http://noviolencia2018.es
X-WR-CALDESC:Eventos para Campaña noviolencia 2018. Continuamos en: http://www.colectivonoviolencia.org/
BEGIN:VTIMEZONE
TZID:Europe/Paris
BEGIN:DAYLIGHT
TZOFFSETFROM:+0100
TZOFFSETTO:+0200
TZNAME:CEST
DTSTART:20180325T010000
END:DAYLIGHT
BEGIN:STANDARD
TZOFFSETFROM:+0200
TZOFFSETTO:+0100
TZNAME:CET
DTSTART:20181028T010000
END:STANDARD
END:VTIMEZONE
BEGIN:VEVENT
DTSTART;TZID=Europe/Paris:20180922T100000
DTEND;TZID=Europe/Paris:20180930T200000
DTSTAMP:20260421T120311
CREATED:20180913T084337Z
LAST-MODIFIED:20180918T070616Z
UID:1455-1537610400-1538337600@noviolencia2018.es
SUMMARY:Actos con JENY CASTAÑEDA (Colombia) en diversas ciudades
DESCRIPTION:Ya tenemos cerradas las fechas de los diversos actos en los que participará Jeny Castañeda. ¡ No pierdas la oportunidad ! \nMADRID. 22 y 2.3 de Septiembre. CONGRESO PERDON y RECONCILIACIÓN desde la NOVIOLENCIA. Casa Emaus. Torremocha de Jarama. \n  \n  \n  \n  \n  \nPAMPLONA. 24 de Septiembre 19:30 h. Casa de Cultura y Encuentro. C/ Sangüesa frente al nº 33. \n  \n  \nBURGOS. 26 y 27 de Semptiembre. Jornadas Don Felipe López. 26 11 h Salon de actos Fac. Educación\, a las 20 h\, charla en la Facultad de Teología. 27 de 10 a 13:30 taller sobre diálogo frente a la violencia en C/Subida S. Miguel 3. \n  \nSALAMANCA. 27 Sept. 20 h. Iglesia de San Martín \n  \n  \n  \nCANARIAS 28 -29 de Septiembre Del ODIO al PERDON. Una oportunidad para la Paz en Colombia. \n28 Sept. 20 h. LAS PALMAS Casa Encuentro y Solidaridad C/ Matías Padrón 26. \n29 Sept. 10:30-13:30 h TEROR. Casa de Espiritualidad Dominicas. Paseo González Díaz 81. \n29 Sept. 20:30 VECINDARIO. Salón N. Mandela. Anexo Teatro Victro Jara. \n  \nMADRID: \n30 Septi. 18 h. Sala Metáforas. Calle Papagayo 8. Metro Abrantes. \n \n  \n  \n  \n  \n  \n  \n  \n  \n  \n
URL:http://noviolencia2018.es/event/actos-con-jeny-castaneda-colombia-en-diversas-ciudades/
END:VEVENT
END:VCALENDAR