BEGIN:VCALENDAR
VERSION:2.0
PRODID:-//Campaña noviolencia 2018. Continuamos en: http://www.colectivonoviolencia.org/ - ECPv4.9.9//NONSGML v1.0//EN
CALSCALE:GREGORIAN
METHOD:PUBLISH
X-WR-CALNAME:Campaña noviolencia 2018. Continuamos en: http://www.colectivonoviolencia.org/
X-ORIGINAL-URL:http://noviolencia2018.es
X-WR-CALDESC:Eventos para Campaña noviolencia 2018. Continuamos en: http://www.colectivonoviolencia.org/
BEGIN:VTIMEZONE
TZID:Europe/Paris
BEGIN:DAYLIGHT
TZOFFSETFROM:+0100
TZOFFSETTO:+0200
TZNAME:CEST
DTSTART:20190331T010000
END:DAYLIGHT
BEGIN:STANDARD
TZOFFSETFROM:+0200
TZOFFSETTO:+0100
TZNAME:CET
DTSTART:20191027T010000
END:STANDARD
END:VTIMEZONE
BEGIN:VEVENT
DTSTART;TZID=Europe/Paris:20190609T110000
DTEND;TZID=Europe/Paris:20190609T140000
DTSTAMP:20260421T133159
CREATED:20190602T182301Z
LAST-MODIFIED:20190604T212852Z
UID:1528-1560078000-1560088800@noviolencia2018.es
SUMMARY:ASAMBLEA ABIERTA COLECTIVO NOVIOLENCIA
DESCRIPTION:Vente!Centraremos el trabajo antes del verano. \nTodo el mundo invitado. \nOrden de día por privado. \n\n
URL:http://noviolencia2018.es/event/asamblea-abierta-colectivo-noviolencia/
LOCATION:Sala metáforas\, Calle papagayo 8\, madrid\, España
END:VEVENT
END:VCALENDAR