BEGIN:VCALENDAR
VERSION:2.0
PRODID:-//Campaña noviolencia 2018. Continuamos en: http://www.colectivonoviolencia.org/ - ECPv4.9.9//NONSGML v1.0//EN
CALSCALE:GREGORIAN
METHOD:PUBLISH
X-WR-CALNAME:Campaña noviolencia 2018. Continuamos en: http://www.colectivonoviolencia.org/
X-ORIGINAL-URL:http://noviolencia2018.es
X-WR-CALDESC:Eventos para Campaña noviolencia 2018. Continuamos en: http://www.colectivonoviolencia.org/
BEGIN:VTIMEZONE
TZID:Europe/Paris
BEGIN:DAYLIGHT
TZOFFSETFROM:+0100
TZOFFSETTO:+0200
TZNAME:CEST
DTSTART:20190331T010000
END:DAYLIGHT
BEGIN:STANDARD
TZOFFSETFROM:+0200
TZOFFSETTO:+0100
TZNAME:CET
DTSTART:20191027T010000
END:STANDARD
END:VTIMEZONE
BEGIN:VEVENT
DTSTART;TZID=Europe/Paris:20190723T080000
DTEND;TZID=Europe/Paris:20190731T170000
DTSTAMP:20260421T170313
CREATED:20190620T203820Z
LAST-MODIFIED:20190620T203820Z
UID:1604-1563868800-1564592400@noviolencia2018.es
SUMMARY:CAMPAMENTO ADULTOS '' DESOBEDIENCIA''
DESCRIPTION:¡Tenemos ya confirmado el cartel completo del campamento de verano de este año! 🏕🌳\nYa es oficial: abordaremos el tema de la DESOBEDIENCIA disfrutando de unas ponencias increíbles sobre parto\, educación\, marginación\, sexualidad\, economía social e insumisión.\nAdemás\, habrá talleres de circo\, autogestión\, Tai Chi o teatro\, entre otros\, y todo ello en plena naturaleza. \nRecuerda que el plazo de inscripción está abierto hasta el 15 DE JULIO\, o\, excepcionalmente\, si vienes días sueltos\, puedes avisarnos mínimo dos días antes a aquel en que deseas venir. Contáctanos y te contamos cómo se realiza la inscripción! 😀 \n\n¡¡Te esperamos!! ♥️🌿 \n\n
URL:http://noviolencia2018.es/event/campamento-adultos-desobediencia/
LOCATION:Llanos de penagos\, cantabria
ATTACH;FMTTYPE=image/jpeg:http://noviolencia2018.es/wp-content/uploads/2019/06/amar.jpg
END:VEVENT
END:VCALENDAR