BEGIN:VCALENDAR
VERSION:2.0
PRODID:-//Campaña noviolencia 2018. Continuamos en: http://www.colectivonoviolencia.org/ - ECPv4.9.9//NONSGML v1.0//EN
CALSCALE:GREGORIAN
METHOD:PUBLISH
X-WR-CALNAME:Campaña noviolencia 2018. Continuamos en: http://www.colectivonoviolencia.org/
X-ORIGINAL-URL:http://noviolencia2018.es
X-WR-CALDESC:Eventos para Campaña noviolencia 2018. Continuamos en: http://www.colectivonoviolencia.org/
BEGIN:VTIMEZONE
TZID:Europe/Paris
BEGIN:DAYLIGHT
TZOFFSETFROM:+0100
TZOFFSETTO:+0200
TZNAME:CEST
DTSTART:20160327T010000
END:DAYLIGHT
BEGIN:STANDARD
TZOFFSETFROM:+0200
TZOFFSETTO:+0100
TZNAME:CET
DTSTART:20161030T010000
END:STANDARD
END:VTIMEZONE
BEGIN:VEVENT
DTSTART;TZID=Europe/Paris:20160307T083000
DTEND;TZID=Europe/Paris:20160308T210000
DTSTAMP:20260421T092100
CREATED:20160226T081029Z
LAST-MODIFIED:20160305T072712Z
UID:349-1457339400-1457470800@noviolencia2018.es
SUMMARY:GALICIA: Diversos encuentros con Las Patronas
DESCRIPTION: \n\nEn Galicia el calendario previsto es el siguiente:\n\nDomingo 6 de Marzo: 21.40h Llegada al aeropuerto de Santiago\n\nLunes 7 de Marzo: 8.30 Charla-Dialogo en LaSalle de Santiago\n\n12.00 Conferencia en la USC\n\n20.00 acto en Lugo\nSede Afundación\n\nMartes 8 de Marzo:\n12:00 Conferencia en A Coruña. Salón de Actos da Facultade de Ciencias\nda Educación UDC\n\nEsa tarde también habrá un pequeño acto en Santiago.\n\n22.05 Salida del aeropuerto de Santiago hacia Madrid.\nLagiraestáfinanciadaentretodosloscolectivosdelas\n\n
URL:http://noviolencia2018.es/event/galicia-diversos-encuentros-con-las-patronas/
END:VEVENT
END:VCALENDAR