BEGIN:VCALENDAR
VERSION:2.0
PRODID:-//Campaña noviolencia 2018. Continuamos en: http://www.colectivonoviolencia.org/ - ECPv4.9.9//NONSGML v1.0//EN
CALSCALE:GREGORIAN
METHOD:PUBLISH
X-WR-CALNAME:Campaña noviolencia 2018. Continuamos en: http://www.colectivonoviolencia.org/
X-ORIGINAL-URL:http://noviolencia2018.es
X-WR-CALDESC:Eventos para Campaña noviolencia 2018. Continuamos en: http://www.colectivonoviolencia.org/
BEGIN:VTIMEZONE
TZID:Europe/Paris
BEGIN:DAYLIGHT
TZOFFSETFROM:+0100
TZOFFSETTO:+0200
TZNAME:CEST
DTSTART:20190331T010000
END:DAYLIGHT
BEGIN:STANDARD
TZOFFSETFROM:+0200
TZOFFSETTO:+0100
TZNAME:CET
DTSTART:20191027T010000
END:STANDARD
END:VTIMEZONE
BEGIN:VEVENT
DTSTART;TZID=Europe/Paris:20190607T193000
DTEND;TZID=Europe/Paris:20190607T203000
DTSTAMP:20260421T135438
CREATED:20190603T092010Z
LAST-MODIFIED:20190603T092010Z
UID:1541-1559935800-1559939400@noviolencia2018.es
SUMMARY:Itinerario-denuncia contra las casas de apuestas
DESCRIPTION:Primera acción pública en Carabanchel contra las casas de apuestas. \n \n
URL:http://noviolencia2018.es/event/itinerario-denuncia-contra-las-casas-de-apuestas/
END:VEVENT
END:VCALENDAR