BEGIN:VCALENDAR
VERSION:2.0
PRODID:-//Campaña noviolencia 2018. Continuamos en: http://www.colectivonoviolencia.org/ - ECPv4.9.9//NONSGML v1.0//EN
CALSCALE:GREGORIAN
METHOD:PUBLISH
X-WR-CALNAME:Campaña noviolencia 2018. Continuamos en: http://www.colectivonoviolencia.org/
X-ORIGINAL-URL:http://noviolencia2018.es
X-WR-CALDESC:Eventos para Campaña noviolencia 2018. Continuamos en: http://www.colectivonoviolencia.org/
BEGIN:VTIMEZONE
TZID:Europe/Paris
BEGIN:DAYLIGHT
TZOFFSETFROM:+0100
TZOFFSETTO:+0200
TZNAME:CEST
DTSTART:20190331T010000
END:DAYLIGHT
BEGIN:STANDARD
TZOFFSETFROM:+0200
TZOFFSETTO:+0100
TZNAME:CET
DTSTART:20191027T010000
END:STANDARD
END:VTIMEZONE
BEGIN:VEVENT
DTSTART;TZID=Europe/Paris:20190801T080000
DTEND;TZID=Europe/Paris:20190804T170000
DTSTAMP:20260421T154030
CREATED:20190603T090039Z
LAST-MODIFIED:20190603T090447Z
UID:1534-1564646400-1564938000@noviolencia2018.es
SUMMARY:IV Escuela de Verano Antimilitarista Horizontes\, no fronteras
DESCRIPTION:Migraciones y antimilitarismo \n \n
URL:http://noviolencia2018.es/event/iv-escuela-de-verano-antimilitarista-horizontes-no-fronteras/
LOCATION:Madarcos\, Sierra norte
END:VEVENT
END:VCALENDAR