BEGIN:VCALENDAR
VERSION:2.0
PRODID:-//Campaña noviolencia 2018. Continuamos en: http://www.colectivonoviolencia.org/ - ECPv4.9.9//NONSGML v1.0//EN
CALSCALE:GREGORIAN
METHOD:PUBLISH
X-WR-CALNAME:Campaña noviolencia 2018. Continuamos en: http://www.colectivonoviolencia.org/
X-ORIGINAL-URL:http://noviolencia2018.es
X-WR-CALDESC:Eventos para Campaña noviolencia 2018. Continuamos en: http://www.colectivonoviolencia.org/
BEGIN:VTIMEZONE
TZID:Europe/Paris
BEGIN:DAYLIGHT
TZOFFSETFROM:+0100
TZOFFSETTO:+0200
TZNAME:CEST
DTSTART:20160327T010000
END:DAYLIGHT
BEGIN:STANDARD
TZOFFSETFROM:+0200
TZOFFSETTO:+0100
TZNAME:CET
DTSTART:20161030T010000
END:STANDARD
END:VTIMEZONE
BEGIN:VEVENT
DTSTART;TZID=Europe/Paris:20160307T200000
DTEND;TZID=Europe/Paris:20160307T213000
DTSTAMP:20260421T105437
CREATED:20160305T072933Z
LAST-MODIFIED:20160305T072933Z
UID:374-1457380800-1457386200@noviolencia2018.es
SUMMARY:LUGO: Las Patronas\, una experiencia solidaria en la frontera
DESCRIPTION: \n
URL:http://noviolencia2018.es/event/lugo-las-patronas-una-experiencia-solidaria-en-la-frontera/
END:VEVENT
END:VCALENDAR