BEGIN:VCALENDAR
VERSION:2.0
PRODID:-//Campaña noviolencia 2018. Continuamos en: http://www.colectivonoviolencia.org/ - ECPv4.9.9//NONSGML v1.0//EN
CALSCALE:GREGORIAN
METHOD:PUBLISH
X-WR-CALNAME:Campaña noviolencia 2018. Continuamos en: http://www.colectivonoviolencia.org/
X-ORIGINAL-URL:http://noviolencia2018.es
X-WR-CALDESC:Eventos para Campaña noviolencia 2018. Continuamos en: http://www.colectivonoviolencia.org/
BEGIN:VTIMEZONE
TZID:Europe/Paris
BEGIN:DAYLIGHT
TZOFFSETFROM:+0100
TZOFFSETTO:+0200
TZNAME:CEST
DTSTART:20170326T010000
END:DAYLIGHT
BEGIN:STANDARD
TZOFFSETFROM:+0200
TZOFFSETTO:+0100
TZNAME:CET
DTSTART:20171029T010000
END:STANDARD
END:VTIMEZONE
BEGIN:VEVENT
DTSTART;TZID=Europe/Paris:20171125T110000
DTEND;TZID=Europe/Paris:20171125T140000
DTSTAMP:20260421T125150
CREATED:20171124T092049Z
LAST-MODIFIED:20171124T092049Z
UID:1078-1511607600-1511618400@noviolencia2018.es
SUMMARY:MADRID: 11º Asamblea de Noviolencia2018
DESCRIPTION:Ya se acerca el 2018. Te esperamos en la Asamblea de este sábado. \n \n
URL:http://noviolencia2018.es/event/madrid-11o-asamblea-de-noviolencia2018/
END:VEVENT
END:VCALENDAR