BEGIN:VCALENDAR
VERSION:2.0
PRODID:-//Campaña noviolencia 2018. Continuamos en: http://www.colectivonoviolencia.org/ - ECPv4.9.9//NONSGML v1.0//EN
CALSCALE:GREGORIAN
METHOD:PUBLISH
X-WR-CALNAME:Campaña noviolencia 2018. Continuamos en: http://www.colectivonoviolencia.org/
X-ORIGINAL-URL:http://noviolencia2018.es
X-WR-CALDESC:Eventos para Campaña noviolencia 2018. Continuamos en: http://www.colectivonoviolencia.org/
BEGIN:VTIMEZONE
TZID:Europe/Paris
BEGIN:DAYLIGHT
TZOFFSETFROM:+0100
TZOFFSETTO:+0200
TZNAME:CEST
DTSTART:20180325T010000
END:DAYLIGHT
BEGIN:STANDARD
TZOFFSETFROM:+0200
TZOFFSETTO:+0100
TZNAME:CET
DTSTART:20181028T010000
END:STANDARD
END:VTIMEZONE
BEGIN:VEVENT
DTSTART;TZID=Europe/Paris:20180526T100000
DTEND;TZID=Europe/Paris:20180526T200000
DTSTAMP:20260421T092058
CREATED:20180508T071345Z
LAST-MODIFIED:20180508T071345Z
UID:1383-1527328800-1527364800@noviolencia2018.es
SUMMARY:MADRID: Aporte de la Mujer a la lucha social noviolenta
DESCRIPTION: \n
URL:http://noviolencia2018.es/event/madrid-aporte-de-la-mujer-a-la-lucha-social-noviolenta/
ATTACH;FMTTYPE=image/jpeg:http://noviolencia2018.es/wp-content/uploads/2018/04/CARTEL-MUJER-pre-e1525647042363.jpg
END:VEVENT
END:VCALENDAR