BEGIN:VCALENDAR
VERSION:2.0
PRODID:-//Campaña noviolencia 2018. Continuamos en: http://www.colectivonoviolencia.org/ - ECPv4.9.9//NONSGML v1.0//EN
CALSCALE:GREGORIAN
METHOD:PUBLISH
X-WR-CALNAME:Campaña noviolencia 2018. Continuamos en: http://www.colectivonoviolencia.org/
X-ORIGINAL-URL:http://noviolencia2018.es
X-WR-CALDESC:Eventos para Campaña noviolencia 2018. Continuamos en: http://www.colectivonoviolencia.org/
BEGIN:VTIMEZONE
TZID:Europe/Paris
BEGIN:DAYLIGHT
TZOFFSETFROM:+0100
TZOFFSETTO:+0200
TZNAME:CEST
DTSTART:20170326T010000
END:DAYLIGHT
BEGIN:STANDARD
TZOFFSETFROM:+0200
TZOFFSETTO:+0100
TZNAME:CET
DTSTART:20171029T010000
END:STANDARD
END:VTIMEZONE
BEGIN:VEVENT
DTSTART;TZID=Europe/Paris:20171217T130000
DTEND;TZID=Europe/Paris:20171217T170000
DTSTAMP:20260421T110415
CREATED:20171127T113015Z
LAST-MODIFIED:20171212T084355Z
UID:1104-1513515600-1513530000@noviolencia2018.es
SUMMARY:MADRID: Domingo 17\, Ayuno y Concentración en solidaridad con las Personas Migrantes
DESCRIPTION:El domingo 17\, con motivo del Dia Internacional del Migrante realizaremos una jornada uniéndonos a la campaña intenacional de ayuno 18D-Solidarity similar a la del año pasado. Comenzaremos a las 13 h. en la Puerta del Sol con el Acto Central y después tendremos debates\, actuaciones\, microeatro hasta las 17 h. \nPuedes leer aquí el manifiesto de este año \n
URL:http://noviolencia2018.es/event/madrid-domingo-17-ayuno-y-concentracion-en-solidaridad-con-las-personas-migrantes/
END:VEVENT
END:VCALENDAR