BEGIN:VCALENDAR
VERSION:2.0
PRODID:-//Campaña noviolencia 2018. Continuamos en: http://www.colectivonoviolencia.org/ - ECPv4.9.9//NONSGML v1.0//EN
CALSCALE:GREGORIAN
METHOD:PUBLISH
X-WR-CALNAME:Campaña noviolencia 2018. Continuamos en: http://www.colectivonoviolencia.org/
X-ORIGINAL-URL:http://noviolencia2018.es
X-WR-CALDESC:Eventos para Campaña noviolencia 2018. Continuamos en: http://www.colectivonoviolencia.org/
BEGIN:VTIMEZONE
TZID:Europe/Paris
BEGIN:DAYLIGHT
TZOFFSETFROM:+0100
TZOFFSETTO:+0200
TZNAME:CEST
DTSTART:20180325T010000
END:DAYLIGHT
BEGIN:STANDARD
TZOFFSETFROM:+0200
TZOFFSETTO:+0100
TZNAME:CET
DTSTART:20181028T010000
END:STANDARD
END:VTIMEZONE
BEGIN:VEVENT
DTSTART;TZID=Europe/Paris:20180130T000000
DTEND;TZID=Europe/Paris:20180130T140000
DTSTAMP:20260421T103745
CREATED:20180116T152905Z
LAST-MODIFIED:20180116T152905Z
UID:1221-1517270400-1517320800@noviolencia2018.es
SUMMARY:MADRID: Paseo por la Paz
DESCRIPTION:El día 30 de Enero es el día escolar para la paz y la noviolencia. En Madrid vamos a realizar una acción desde la Campaña Noviolencia 2018. Visitaremos las instituciones públicas para decirles que si no hacen nada para parar el negocio de la muerte son cómplices. Si queremos la paz hay que trabajar por la paz y si queremos la guerra haremos negocio con la guerra. Las dos cosas a la vez no se pueden hacer. No se puede ser neutral. Si quieres acompañarnos escríbenos. Te esperamos \n
URL:http://noviolencia2018.es/event/madrid-paseo-por-la-paz/
END:VEVENT
END:VCALENDAR