BEGIN:VCALENDAR
VERSION:2.0
PRODID:-//Campaña noviolencia 2018. Continuamos en: http://www.colectivonoviolencia.org/ - ECPv4.9.9//NONSGML v1.0//EN
CALSCALE:GREGORIAN
METHOD:PUBLISH
X-WR-CALNAME:Campaña noviolencia 2018. Continuamos en: http://www.colectivonoviolencia.org/
X-ORIGINAL-URL:http://noviolencia2018.es
X-WR-CALDESC:Eventos para Campaña noviolencia 2018. Continuamos en: http://www.colectivonoviolencia.org/
BEGIN:VTIMEZONE
TZID:Europe/Paris
BEGIN:DAYLIGHT
TZOFFSETFROM:+0100
TZOFFSETTO:+0200
TZNAME:CEST
DTSTART:20180325T010000
END:DAYLIGHT
BEGIN:STANDARD
TZOFFSETFROM:+0200
TZOFFSETTO:+0100
TZNAME:CET
DTSTART:20181028T010000
END:STANDARD
END:VTIMEZONE
BEGIN:VEVENT
DTSTART;TZID=Europe/Paris:20180125T193000
DTEND;TZID=Europe/Paris:20180125T210000
DTSTAMP:20260421T085621
CREATED:20180122T220929Z
LAST-MODIFIED:20180122T220938Z
UID:1223-1516908600-1516914000@noviolencia2018.es
SUMMARY:MADRID: Reunión preparatoria del Congreso M. L. King
DESCRIPTION: \n
URL:http://noviolencia2018.es/event/madrid-reunion-prepartoria-del-congreso-m-l-king/
END:VEVENT
END:VCALENDAR