BEGIN:VCALENDAR
VERSION:2.0
PRODID:-//Campaña noviolencia 2018. Continuamos en: http://www.colectivonoviolencia.org/ - ECPv4.9.9//NONSGML v1.0//EN
CALSCALE:GREGORIAN
METHOD:PUBLISH
X-WR-CALNAME:Campaña noviolencia 2018. Continuamos en: http://www.colectivonoviolencia.org/
X-ORIGINAL-URL:http://noviolencia2018.es
X-WR-CALDESC:Eventos para Campaña noviolencia 2018. Continuamos en: http://www.colectivonoviolencia.org/
BEGIN:VTIMEZONE
TZID:Europe/Paris
BEGIN:DAYLIGHT
TZOFFSETFROM:+0100
TZOFFSETTO:+0200
TZNAME:CEST
DTSTART:20160327T010000
END:DAYLIGHT
BEGIN:STANDARD
TZOFFSETFROM:+0200
TZOFFSETTO:+0100
TZNAME:CET
DTSTART:20161030T010000
END:STANDARD
END:VTIMEZONE
BEGIN:VEVENT
DTSTART;TZID=Europe/Paris:20161022T183000
DTEND;TZID=Europe/Paris:20161022T203000
DTSTAMP:20260421T125611
CREATED:20161014T081614Z
LAST-MODIFIED:20161014T081614Z
UID:575-1477161000-1477168200@noviolencia2018.es
SUMMARY:SANTANDER: Encuentro abierto en el Club atlético Olimpia de San Román de la Llanilla.
DESCRIPTION:La ciudad de Santander acogerá el próximo sábado 22 de octubre un encuentro abierto de la campaña noviolencia2018. \nLa cita tendrá lugar en el local del Club atlético Olimpia de San Román de la Llanilla\, situado en el número séis de la Calle Victoriano Fernández. \nComenzará a las 18:30 con una presentación de la campaña y de algunos principios básicos de la corriente de la noviolencia y continuará a las 19:30 con una puesta en común de lo acontecido en el encuentro nacional celebrado en Madrid el pasado mes de septiembre y algunas propuestas sobre las que ya se está trabajando. El espacio pretende también servir para concretar acciones en Cantabria\, como la que está programada para noviembre. \nLos organizadores del evento han puesto a disposición el siguiente contacto para quienes deseen ampliar la información o tengan alguna duda sobre el encuentro: \nContacto: 672550647 Luís esmsantander[a]hotmail.com \n
URL:http://noviolencia2018.es/event/santander-encuentro-abierto-en-el-club-atletico-olimpia-de-san-roman-de-la-llanilla/
ATTACH;FMTTYPE=image/jpeg:http://noviolencia2018.es/wp-content/uploads/2016/10/noviolencia2018-stder.jpg
END:VEVENT
END:VCALENDAR